BEGIN:VCALENDAR
VERSION:2.0
PRODID:-//Evangeliehuset - ECPv6.15.20//NONSGML v1.0//EN
CALSCALE:GREGORIAN
METHOD:PUBLISH
X-WR-CALNAME:Evangeliehuset
X-ORIGINAL-URL:https://evangeliehuset.no
X-WR-CALDESC:Arrangement for Evangeliehuset
REFRESH-INTERVAL;VALUE=DURATION:PT1H
X-Robots-Tag:noindex
X-PUBLISHED-TTL:PT1H
BEGIN:VTIMEZONE
TZID:Europe/Oslo
BEGIN:DAYLIGHT
TZOFFSETFROM:+0100
TZOFFSETTO:+0200
TZNAME:CEST
DTSTART:20240331T010000
END:DAYLIGHT
BEGIN:STANDARD
TZOFFSETFROM:+0200
TZOFFSETTO:+0100
TZNAME:CET
DTSTART:20241027T010000
END:STANDARD
BEGIN:DAYLIGHT
TZOFFSETFROM:+0100
TZOFFSETTO:+0200
TZNAME:CEST
DTSTART:20250330T010000
END:DAYLIGHT
BEGIN:STANDARD
TZOFFSETFROM:+0200
TZOFFSETTO:+0100
TZNAME:CET
DTSTART:20251026T010000
END:STANDARD
BEGIN:DAYLIGHT
TZOFFSETFROM:+0100
TZOFFSETTO:+0200
TZNAME:CEST
DTSTART:20260329T010000
END:DAYLIGHT
BEGIN:STANDARD
TZOFFSETFROM:+0200
TZOFFSETTO:+0100
TZNAME:CET
DTSTART:20261025T010000
END:STANDARD
END:VTIMEZONE
BEGIN:VEVENT
DTSTART;TZID=Europe/Oslo:20250105T120000
DTEND;TZID=Europe/Oslo:20250105T133000
DTSTAMP:20260419T145810
CREATED:20241219T153344Z
LAST-MODIFIED:20241219T153438Z
UID:10000373-1736078400-1736083800@evangeliehuset.no
SUMMARY:Gudstjeneste og barnekirke
DESCRIPTION:Trond Moi taler. Nattverd.
URL:https://evangeliehuset.no/aktivitet/gudstjeneste-og-barnekirke-20/
END:VEVENT
BEGIN:VEVENT
DTSTART;TZID=Europe/Oslo:20250109T163000
DTEND;TZID=Europe/Oslo:20250109T180000
DTSTAMP:20260419T145810
CREATED:20250318T135831Z
LAST-MODIFIED:20250318T140112Z
UID:10000778-1736440200-1736445600@evangeliehuset.no
SUMMARY:Småbarnssang
DESCRIPTION:
URL:https://evangeliehuset.no/aktivitet/smabarnssang/2025-01-09/
END:VEVENT
BEGIN:VEVENT
DTSTART;TZID=Europe/Oslo:20250116T170000
DTEND;TZID=Europe/Oslo:20250116T180000
DTSTAMP:20260419T145810
CREATED:20250318T135921Z
LAST-MODIFIED:20250318T135921Z
UID:10000790-1737046800-1737050400@evangeliehuset.no
SUMMARY:Knøtte-krik
DESCRIPTION:
URL:https://evangeliehuset.no/aktivitet/knotte-krik/2025-01-16/
END:VEVENT
BEGIN:VEVENT
DTSTART;TZID=Europe/Oslo:20250119T120000
DTEND;TZID=Europe/Oslo:20250119T133000
DTSTAMP:20260419T145810
CREATED:20250117T131603Z
LAST-MODIFIED:20250117T131603Z
UID:10000658-1737288000-1737293400@evangeliehuset.no
SUMMARY:Gudstjeneste og Barnekirke
DESCRIPTION:Einar Nymoen taler.
URL:https://evangeliehuset.no/aktivitet/gudstjeneste-og-barnekirke-21/
END:VEVENT
BEGIN:VEVENT
DTSTART;TZID=Europe/Oslo:20250120T120000
DTEND;TZID=Europe/Oslo:20250120T140000
DTSTAMP:20260419T145810
CREATED:20250117T131101Z
LAST-MODIFIED:20250117T131101Z
UID:10000635-1737374400-1737381600@evangeliehuset.no
SUMMARY:Søstermisjon
DESCRIPTION:
URL:https://evangeliehuset.no/aktivitet/sostermisjon-11/2025-01-20/
END:VEVENT
BEGIN:VEVENT
DTSTART;TZID=Europe/Oslo:20250121T090000
DTEND;TZID=Europe/Oslo:20250121T110000
DTSTAMP:20260419T145810
CREATED:20250117T130926Z
LAST-MODIFIED:20250318T135048Z
UID:10000374-1737450000-1737457200@evangeliehuset.no
SUMMARY:Bønn
DESCRIPTION:
URL:https://evangeliehuset.no/aktivitet/bonn-21/2025-01-21/
END:VEVENT
BEGIN:VEVENT
DTSTART;TZID=Europe/Oslo:20250122T190000
DTEND;TZID=Europe/Oslo:20250122T213000
DTSTAMP:20260419T145810
CREATED:20250117T132126Z
LAST-MODIFIED:20250117T132126Z
UID:10000660-1737572400-1737581400@evangeliehuset.no
SUMMARY:Night of Worship
DESCRIPTION:Velkommen til tverrkirkelig lovsangkveld i Evangeliehuset.
URL:https://evangeliehuset.no/aktivitet/night-of-worship-2/
END:VEVENT
BEGIN:VEVENT
DTSTART;TZID=Europe/Oslo:20250123T140000
DTEND;TZID=Europe/Oslo:20250125T200000
DTSTAMP:20260419T145810
CREATED:20250117T132441Z
LAST-MODIFIED:20250117T132441Z
UID:10000662-1737640800-1737835200@evangeliehuset.no
SUMMARY:Felles bønnedager
DESCRIPTION:Detaljert program ligger på hjemmesiden
URL:https://evangeliehuset.no/aktivitet/felles-bonnedager/
END:VEVENT
BEGIN:VEVENT
DTSTART;TZID=Europe/Oslo:20250123T163000
DTEND;TZID=Europe/Oslo:20250123T180000
DTSTAMP:20260419T145810
CREATED:20250318T135831Z
LAST-MODIFIED:20250318T140112Z
UID:10000779-1737649800-1737655200@evangeliehuset.no
SUMMARY:Småbarnssang
DESCRIPTION:
URL:https://evangeliehuset.no/aktivitet/smabarnssang/2025-01-23/
END:VEVENT
BEGIN:VEVENT
DTSTART;TZID=Europe/Oslo:20250126T120000
DTEND;TZID=Europe/Oslo:20250126T133000
DTSTAMP:20260419T145810
CREATED:20250117T131721Z
LAST-MODIFIED:20250117T131721Z
UID:10000659-1737892800-1737898200@evangeliehuset.no
SUMMARY:Gudstjeneste og Barnekirke
DESCRIPTION:Trond Moi taler. Bønnevandring. Nattverd.
URL:https://evangeliehuset.no/aktivitet/gudstjeneste-og-barnekirke-22/
END:VEVENT
BEGIN:VEVENT
DTSTART;TZID=Europe/Oslo:20250128T090000
DTEND;TZID=Europe/Oslo:20250128T110000
DTSTAMP:20260419T145810
CREATED:20250117T130926Z
LAST-MODIFIED:20250318T135048Z
UID:10000375-1738054800-1738062000@evangeliehuset.no
SUMMARY:Bønn
DESCRIPTION:
URL:https://evangeliehuset.no/aktivitet/bonn-21/2025-01-28/
END:VEVENT
BEGIN:VEVENT
DTSTART;TZID=Europe/Oslo:20250129T110000
DTEND;TZID=Europe/Oslo:20250129T130000
DTSTAMP:20260419T145810
CREATED:20250117T131321Z
LAST-MODIFIED:20250117T131321Z
UID:10000647-1738148400-1738155600@evangeliehuset.no
SUMMARY:Formiddagstreff
DESCRIPTION:
URL:https://evangeliehuset.no/aktivitet/formiddagstreff-10/2025-01-29/
END:VEVENT
BEGIN:VEVENT
DTSTART;TZID=Europe/Oslo:20250130T170000
DTEND;TZID=Europe/Oslo:20250130T180000
DTSTAMP:20260419T145810
CREATED:20250318T135921Z
LAST-MODIFIED:20250318T135921Z
UID:10000791-1738256400-1738260000@evangeliehuset.no
SUMMARY:Knøtte-krik
DESCRIPTION:
URL:https://evangeliehuset.no/aktivitet/knotte-krik/2025-01-30/
END:VEVENT
END:VCALENDAR