BEGIN:VCALENDAR
VERSION:2.0
PRODID:-//Evangeliehuset - ECPv6.15.20//NONSGML v1.0//EN
CALSCALE:GREGORIAN
METHOD:PUBLISH
X-ORIGINAL-URL:https://evangeliehuset.no
X-WR-CALDESC:Arrangement for Evangeliehuset
REFRESH-INTERVAL;VALUE=DURATION:PT1H
X-Robots-Tag:noindex
X-PUBLISHED-TTL:PT1H
BEGIN:VTIMEZONE
TZID:Europe/Oslo
BEGIN:DAYLIGHT
TZOFFSETFROM:+0100
TZOFFSETTO:+0200
TZNAME:CEST
DTSTART:20250330T010000
END:DAYLIGHT
BEGIN:STANDARD
TZOFFSETFROM:+0200
TZOFFSETTO:+0100
TZNAME:CET
DTSTART:20251026T010000
END:STANDARD
BEGIN:DAYLIGHT
TZOFFSETFROM:+0100
TZOFFSETTO:+0200
TZNAME:CEST
DTSTART:20260329T010000
END:DAYLIGHT
BEGIN:STANDARD
TZOFFSETFROM:+0200
TZOFFSETTO:+0100
TZNAME:CET
DTSTART:20261025T010000
END:STANDARD
BEGIN:DAYLIGHT
TZOFFSETFROM:+0100
TZOFFSETTO:+0200
TZNAME:CEST
DTSTART:20270328T010000
END:DAYLIGHT
BEGIN:STANDARD
TZOFFSETFROM:+0200
TZOFFSETTO:+0100
TZNAME:CET
DTSTART:20271031T010000
END:STANDARD
END:VTIMEZONE
BEGIN:VEVENT
DTSTART;TZID=Europe/Oslo:20260426T120000
DTEND;TZID=Europe/Oslo:20260426T133000
DTSTAMP:20260423T113019
CREATED:20260421T111816Z
LAST-MODIFIED:20260421T125654Z
UID:10001155-1777204800-1777210200@evangeliehuset.no
SUMMARY:Gudstjeneste og barnekirke
DESCRIPTION:Velkommen til Gudstjeneste og barnekirke for barn 0-12år! Trond Moi taler og Mona Skruverud og Elin Tellefsen leder i lovsang. Håper å se deg!
URL:https://evangeliehuset.no/aktivitet/gudstjeneste-og-barnekirke-6/
END:VEVENT
END:VCALENDAR